Workbook

Sheet Bilance Aktīvs
A1: [Biedrības / nodibinājuma nosaukums]
A2: [Reģ.Nr.]
A3: [Juridiskā adrese]
A5: Bilance uz 20___.gada 31.decembri | E5: EUR
A6: AKTĪVS | D6: Pārskata perioda beigās | E6: Pārskata perioda sākumā
A7: ILGTERMIŅA IEGULDĪJUMI
B8: I Nemateriālie ieguldījumi
B9: II Pamatlīdzekļi
C10: 1. Nekustamais īpašums
C11: 2. Pārējie pamatlīdzekļi
C12: 3. Pamatlīdzekļu izveidošana un nepabeigto celtniecības objektu izmaksas
C13: II KOPĀ | D13: =IF(SUM(D10:D12)>0, SUM(D10:D12), "0") -> 0 | E13: =IF(SUM(E10:E12)>0, SUM(E10:E12), "0") -> 0
B14: III Ilgtermiņa finanšu ieguldījumi
C15: 1. Akcijas un daļas
C16: 2. Nākamo periodu izmaksas
C17: 3. Ilgtermiņa aizdevumi
C18: III KOPĀ | D18: =IF(SUM(D15:D17)>0, SUM(D15:D17), "0") -> 0 | E18: =IF(SUM(E15:E17)>0, SUM(E15:E17), "0") -> 0
A19: ILGTERMIŅA IEGULDĪJUMI KOPSUMMA | D19: =SUM(D8,D13,D18) -> 0 | E19: =SUM(E8,E13,E18) -> 0
A20: APGROZĀMIE LĪDZEKĻI
B21: I Krājumi
C22: 1. Materiāli
C23: 2. Preces
C24: I KOPĀ | D24: =SUM(D22:D23) -> 0 | E24: =SUM(E22:E23) -> 0
B25: II Debitori
B26: III Nākamo periodu izmakas
B27: IV Vērtspapīri
B28: V Nauda
A29: APGROZĀMO LĪDZEKĻU KOPSUMMA | D29: =SUM(D24,D25,D27,D28) -> 0 | E29: =SUM(E24,E25,E27,E28) -> 0
A30: BILANCE | D30: =SUM(D19,D29) -> 0 | E30: =SUM(E19,E29) -> 0
A32: [paraksts] | D32: [vārds, uzvārds]
A33: [datums]
D35: ='Bilance Pasīvs'!D24-'Bilance Aktīvs'!D30 -> 0 | E35: ='Bilance Pasīvs'!E24-'Bilance Aktīvs'!E30 -> 0

Sheet Bilance Pasīvs
A3: ='Bilance Aktīvs'!A5:C5 -> Bilance uz 20___.gada 31.decembri | E3: EUR
A4: PASĪVS | D4: Pārskata perioda beigās | E4: Pārskata perioda sākumā
A5: I Fondi
C6: 1. Pamatfonds
C7: 2. Mērķfondi
C8: 3. Rezerves fonds
C9: 3.1. Iepriekšējo gadu rezerves fonds
C10: 3.2. Pārskata gada rezerves fonds
A11: I KOPĀ | D11: =SUM(D6:D10) -> 0 | E11: =SUM(E6:E10) -> 0
A12: II Ilgtrermiņa kreditori
C13: 1. Ilgtermiņa aizņēmumi no kredītiestādēm
C14: 2. Citi aizņēmumi
C15: 3. Nākamo periodu ieņēmumi
A16: II KOPĀ | D16: =SUM(D13:D15) -> 0 | E16: =SUM(E13:E15) -> 0
A17: III Īstermiņa kreditori
C18: 1. Īstermiņa aizņēmumi no kredītiestādēm
C19: 2. Nodokļi un valsts sociālās apdrošināšanas obligātās iemaksas
C20: 3. Nākamo periodu ieņēmumi
C21: 4. Pārējie kreditori
A22: III KOPĀ | D22: =SUM(D18:D21) -> 0 | E22: =SUM(E18:E21) -> 0
A23: IV Naudas maksājumi uzkrājumu fondā
A24: BILANCE | D24: =SUM(D11,D16,D22,D23) -> 0 | E24: =SUM(E11,E16,E22,E23) -> 0
A27: [paraksts] | D27: [vārds, uzvārds]
A28: [datums]
D30: =D24-'Bilance Aktīvs'!D35 -> 0 | E30: ='Bilance Aktīvs'!E30-'Bilance Pasīvs'!E24 -> 0
