Workbook

Sheet PVN deklaracija
A1: Pievienotās vērtības nodokļa deklarācija
A3: 1. | B3: Periods par | F3: gada | G3: [mēnesis]
B5: 1. ceturksni | E5: 2.ceturksni | H5: 3. ceturksni | K5: 4. ceturksni
A6: 2. | B6: Reģistrēta nodokļa maks. PVN reģistrācijas numurs
A7: 3. | B7: Reģistrēta nod. maks. nosaukums vai vārds, uzvārds
A8: 4.
A9: KOPĒJĀ DARĪJUMU VĒRTĪBA (eiro), no tās: | O9: 40 | Q9: =SUM(Q10:R14,Q22,Q23,) -> 0
A10: Ar PVN standartlikmi apliekamie darījumi | O10: 41
A11: Iekšzemē veiktie darījumi, par kuriem nodokli maksā preču vai pakalpojumu saņēmējs | O11: 411
A12: Ar PVN samazināto likmi 12 procentu apmērā apliekamie darījumi | O12: 42
A13: Ar PVN samazināto likmi 5 procentu apmērā apliekamie darījumi | O13: 421
A14: Ar PVN 0 % likmi apliekamie darījumi, tai skaitā: | O14: 43 | Q14: =SUM(Q15:R21) -> 0
A15: darījumi, kas veikti brīvostās un SEZ | O15: 44
A16: uz ES dalībvalstīm piegādātās preces, izņemot likuma 42. panta sešpadsmitajā daļā minētās preces | O16: 45
A17: uz ES dalībvalstīm piegādātās preces, kas minētas likuma 42. panta sešpadsmitajā daļā | O17: 451
A18: ārpuskopienas preču piegādes muitas noliktavās un brīvajās zonās | O18: 46
A19: uz ES dalībvalstīm piegādātie jaunie transportlīdzekļi | O19: 47
A20: par sniegtajiem pakalpojumiem | O20: 48
A21: eksportētās preces | O21: 481
A22: Citās valstīs veiktie darījumi | O22: 482
A23: Ar PVN neapliekamie darījumi | O23: 49
A24: No ES dalībvalstīm saņemtās preces un pakalpojumi (standartlikme) | O24: 50
A25: No ES dalībvalstīm saņemtās preces (PVN samazinātā likme 12 procentu apmērā) | O25: 51
A26: No ES dalībvalstīm saņemtās preces (PVN samazinātā likme 5 procentu apmērā) | O26: 511
A27: APRĒĶINĀTAIS PVN (eiro):
A28: Ar PVN standartlikmi apliekamiem darījumiem | K28: PVN likme | M28: 0.21 | O28: 52 | Q28: =ROUND((Q10*M28),2) -> 0
A29: Ar PVN samazināto likmi 12 procentu apmērā apliekamiem darījumiem | K29: PVN likme | M29: 0.12 | O29: 53 | Q29: =ROUND((Q12*M29),2) -> 0
A30: Ar PVN samazināto likmi 5 procentu apmērā apliekamiem darījumiem | K30: PVN likme | M30: 0.05 | O30: 531 | Q30: =ROUND((Q13*M30),2) -> 0
A31: Par saņemtajiem pakalpojumiem | O31: 54
A32: Ar PVN standartlikmi apliekamām precēm un pakalpojumiem, kas saņemti no ES dalībvalstīm | K32: PVN likme | M32: 0.21 | O32: 55 | Q32: =ROUND((Q24*M32),2) -> 0
A33: Ar PVN samazināto likmi 12 procentu apmērā apliekamām precēm, kas saņemtas no ES dalībvalstīm | K33: PVN likme | M33: 0.12 | O33: 56 | Q33: =ROUND((Q25*M33),2) -> 0
A34: Ar PVN samazināto likmi 5 procentu apmērā apliekamām precēm, kas saņemtas no ES dalībvalstīm | K34: PVN likme | M34: 0.05 | O34: 561 | Q34: =ROUND((Q26*M34),2) -> 0
A35: PVN SUMMA PAR SAŅEMTAJĀM PRECĒM un PAKALPOJUMIEM (eiro), no tās: | O35: 60 | Q35: =SUM(Q36:R40) -> 0
A36: Par importētajām precēm | O36: 61
A37: Par precēm un pakalpojumiem iekšzemē | O37: 62
A38: Aprēķinātā PVN summa saskaņā ar likuma 92.panta pirmās daļas 4.punktu (izņemot 64.rindu) | O38: 63
A39: Aprēķinātā PVN summa par precēm un pakalpojumiem, kas saņemti no ES dalībvalstīm | O39: 64
A40: Lauksaimniekiem izmaksātā kompensācija | O40: 65
A41: PVN summa, kas nav atskaitāma kā priekšnodoklis | O41: 66
A42: Korekcijas | E42: iepriekšējos taksācijas periodos samaksai valsts budžetā aprēķinātā nodokļa samazinājums | O42: 67
...

Sheet PVN1(I)
Q1: PVN 1
A2: Pārskats par priekšnodokļa un nodokļa summām, kas iekļautas PVN deklarācijā
A3: I. Nodokļa summas par iekšzemē iegādātajām precēm un saņemtajiem pakalpojumiem
A5: 1. | B5: Reģistrētā nodokļa maks. PVN reģistrācijas numurs | H5: ='PVN deklaracija'!K6 -> 0
A6: 2. | B6: Periods par | E6: ='PVN deklaracija'!D3 -> 0 | G6: gada | H6: ='PVN deklaracija'!G3 -> [mēnesis]
B8: ='PVN deklaracija'!A5 -> 0 | C8: 1.ceturksnis | D8: ='PVN deklaracija'!D5 -> 0 | E8: 2.ceturksnis | F8: ='PVN deklaracija'!G5 -> 0 | G8: 3.ceturksnis | H8: ='PVN deklaracija'!J5 -> 0 | I8: 4.ceturksnis
A9: * Norādiet darījuma veidu, lietojot šādus kodus: I – imports, A – darījums ar reģistrētu nodokļa maksātāju vai citas dalībvalsts reģistrētu nodokļa maksātāju N – darījuma partnerim nav PVN reģistrācijas numura, K – lauksaimniekam izmaksātā kompensācija, Z – zaudētie parādi, Rx (kur x – cipars, ar kuru apzīmē konkrēto nozari, piemēram, R1 – darījumi ar kokmateriāliem, R2 – darījumi ar metāllūžņiem) – iekšzemē veiktie darījumi, par kuriem nodokli maksā preču un pakalpojumu saņēmējs, C – vieglo transportlīdzekļu iegādes un importa darījumi, M – mantas pārdošana izsolē, V – darījumi ar vienu darījuma partneri, kas nepārsniedz 150 euro, par kopējo summu, kas pārsniedz 150 euro, T – darījumi, kas nepārsniedz 150 euro.
A10: ** Norādiet attaisnojuma dokumenta veidu, lietojot šādus kodus: 1 – nodokļa rēķins, 2 – kases čeks vai kvīts, 3 – bezskaidras naudas maksājuma dokuments, 4 – kredītrēķins, 5 – cits, 6 – muitas deklarācija.
A12: Darījuma partnera nosaukums | D12: Darījuma partnera PVN reģistrācijas numurs | F12: Darījuma veids* | H12: Preču vai pakalpojumu vērtība bez PVN (EUR) | J12: PVN (EUR) | L12: Attaisnojuma dokuments
L13: Dokumenta veids** | N13: Numurs | P13: Datums (dd.mm.gg)
A14: 1 | D14: 2 | F14: 3 | H14: 4 | J14: 5 | L14: 6 | N14: 7 | P14: 8
F22: Kopā: | H22: =SUM(H15:I21) -> 0 | J22: =SUM(J15:K21) -> 0
A23: ='PVN deklaracija'!A55 -> [datums]
L24: [atbildīgās personas paraksts un atšifrējums]

Sheet PVN1(II)
A1: II. Nodokļa summas par precēm un pakalpojumiem, kas saņemti no Eiropas Savienības dalībvalstīm
A3: 1. | B3: Reģistrēta nodokļa maks. PVN reģistrācijas numurs | H3: ='PVN deklaracija'!K6 -> 0
A4: 2. | B4: Periods par | E4: ='PVN deklaracija'!D3 -> 0 | G4: gada | H4: ='PVN deklaracija'!G3 -> [mēnesis]
B6: ='PVN deklaracija'!A5 -> 0 | C6: 1.ceturksnis | D6: ='PVN deklaracija'!D5 -> 0 | E6: 2.ceturksnis | F6: ='PVN deklaracija'!G5 -> 0 | G6: 3.ceturksnis | H6: ='PVN deklaracija'!J5 -> 0 | I6: 4.ceturksnis
A7: * Norādiet darījuma veidu, lietojot šādus kodus: P – pakalpojumi, G – preces, C – preču saņemšana saskaņā ar likuma 9.panta trešo daļu.
A9: Darījuma partnera nosaukums | D9: Darījuma partnera PVN reģistrācijas numurs | F9: K* | G9: Vērtība, no kuras aprēķināts PVN (EUR) | I9: PVN (EUR) | K9: Vērtība valūtā | O9: No darījuma partnera saņemtais rēķins
K10: summa | M10: valūtas kods | O10: numurs | Q10: datums (dd.mm.gg)
A11: 1 | D11: 2 | F11: 3 | G11: 4 | I11: 5 | K11: 6 | M11: 7 | O11: 8 | Q11: 9
E20: Kopā: | G20: =SUM(G12:H19) -> 0 | I20: =SUM(I12:J19) -> 0
A21: ='PVN deklaracija'!A55 -> [datums]
M22: [atbildīgās personas paraksts un atšifrējums]

Sheet PVN1(III)
A1: III. Aprēķinātais nodoklis par piegādātajām precēm un sniegtajiem pakalpojumiem
A3: 1. | B3: Reģistrēta nodokļa maks. PVN reģistrācijas numurs | H3: ='PVN deklaracija'!K6 -> 0
A4: 2. | B4: Periods par | E4: ='PVN deklaracija'!D3 -> 0 | G4: gada | H4: ='PVN deklaracija'!G3 -> [mēnesis]
B6: ='PVN deklaracija'!A5 -> 0 | C6: 1.ceturksnis | D6: ='PVN deklaracija'!D5 -> 0 | E6: 2.ceturksnis | F6: ='PVN deklaracija'!G5 -> 0 | G6: 3.ceturksnis | H6: ='PVN deklaracija'!J5 -> 0 | I6: 4.ceturksnis
A7: * Norādiet attaisnojuma dokumenta veidu, lietojot šādus kodus: 1 – nodokļa rēķins, 2 – kases čeks vai kvīts, 3 – bezskaidras naudas maksājuma dokuments, 5 – cits, M – mantas pārdošana izsolē, V – darījumi ar vienu darījuma partneri, kas nepārsniedz 150 euro, par kopējo summu, kas pārsniedz 150 euro, T – darījumi, kas nepārsniedz 150 euro, X – atsevišķi neuzrādāmie darījumi no 150 euro.
A9: Darījuma partnera nosaukums | D9: Darījuma partnera PVN reģistrācijas numurs | G9: PVN deklarācijas rindas Nr. | I9: Preču vai pakalpojumu vērtība bez PVN (EUR) | K9: PVN (EUR) | M9: Attaisnojuma dokuments
M10: dokumenta veids | O10: numurs* | Q10: datums (dd.mm.gg)
A11: 1 | D11: 2 | G11: 3 | I11: 4 | K11: 5 | M11: 6 | O11: 7 | Q11: 8
G20: Kopā: | I20: =SUM(I12:J19) -> 0 | K20: =SUM(K12:L19) -> 0
A21: ='PVN deklaracija'!A55 -> [datums]
L22: [atbildīgās personas paraksts un atšifrējums]

Sheet PVN2
A1: PVN 2
A2: Pārskats par preču piegādēm un sniegtajiem pakalpojumiem Eiropas Savienības teritorijā
A4: 1. | B4: Periods | E4: ='PVN deklaracija'!D3 -> 0 | H4: gada | J4: ='PVN deklaracija'!G3 -> [mēnesis]
A6: 2. | B6: Reģistrēta nodokļa maks. PVN reģistrācijas numurs | O6: ='PVN deklaracija'!K6 -> 0
A7: 3. | B7: Reģistrēta nod. maks. nosaukums vai vārds, uzvārds | O7: ='PVN deklaracija'!K7 -> 0
A8: * Norādiet darījuma veidu, lietojot šādus kodus: S – likuma 16.panta ceturtajā daļā minētie darījumi, P – pakalpojumi, G – preces, C – preču piegāde saskaņā ar likuma 45.panta piekto daļu, E - preču nosūtīšana vai transportēšana uz citu dalībvalsti, veicot preču piegādi uz noliktavu citā dalībvalstī saskaņā ar likuma 8.1 pantu, N - preču piegāde Eiropas Savienības teritorijā likuma 31.1 pantā noteiktajā brīdī, ja tiek veikta preču piegāde uz noliktavu citā dalībvalstī.
A10: 4.
A11: Valsts kods | C11: Darījuma partnera PVN reģistrācijas numurs | J11: Preču piegādes vai pakalpojumu summa, EUR | P11: K* | Q11: Aizvietotā darījuma partnera PVN reģistrācijas numurs
A31: ='PVN deklaracija'!A55 -> [datums]
N32: [atbildīgās personas paraksts un atšifrējums]

Sheet PVN3
I1: PVN 3
A2: Labojumu pārskats par preču piegādēm un sniegtajiem pakalpojumiem Eiropas Savienības teritorijā
A4: 1. | B4: Reģistrēta nodokļa maks. PVN reģistrācijas numurs | G4: ='PVN deklaracija'!K6 -> 0
A5: 2. | B5: Reģistrēta nod. maks. nosaukums vai vārds, uzvārds | G5: ='PVN deklaracija'!K7 -> 0
A6: *Norādiet darījuma veidu, lietojot šādus kodus: S - likuma 16. panta ceturtajā daļā minētie darījumi, P - pakalpojumi, G - preces, C - preču piegāde saskaņā ar likuma 45. panta piekto daļu, E - preču nosūtīšana vai transportēšana uz citu dalībvalsti, veicot preču piegādi uz noliktavu citā dalībvalstī saskaņā ar likuma 8.1 pantu, N - preču piegāde Eiropas Savienības teritorijā likuma 31.1 pantā noteiktajā brīdī, ja tiek veikta preču piegāde uz noliktavu citā dalībvalstī.
A7: 3.
B8: Taksācijas periods | D8: Valsts kods | E8: Darījuma partnera PVN reģistrācijas numurs | H8: Preču piegādes vai pakalpojumu summa (EUR) | J8: K* | K8: Aizvietotā darījuma partnera PVN reģistrācijas numurs
A9: V | B9: [gads, mēnesis]
A10: J | B10: [gads, mēnesis]
A12: V | B12: [gads, mēnesis]
A13: J | B13: [gads, mēnesis]
A15: V | B15: [gads, mēnesis]
A16: J | B16: [gads, mēnesis]
A18: V | B18: [gads, mēnesis]
A19: J | B19: [gads, mēnesis]
A21: ='PVN deklaracija'!A55 -> [datums]
F22: [atbildīgās personas paraksts un atšifrējums]

Sheet PVN4
A1: PVN 4
A3: Pievienotās vērtības nodokļa deklarācija par taksācijas gadu
A5: Taksācijas gads
A6: Reģistrēta nod.maks. nosaukums
A7: Juridiskā adrese | G7: LV -
A8: Reģistrēta nod.maks. PVN reģistrācijas numurs
A9: Tālrunis
G10: (EUR)
A11: Par taksācijas gadu iesniegtajās deklarācijās aprēķinātā nodokļa summa
A12: Par taksācijas gadu aprēķinātais nodoklis, ievērojot veiktās korekcijas
A13: Valsts budžetā maksājamais nodoklis | G13: +
A14: No valsts budžeta atmaksājamais nodoklis | G14: -
A16: Apstiprinu, ka nodokļa deklarācijā sniegtā informācija ir pilnīga un patiesa.
A18: [atbildīgās personas paraksts un atšifrējums]
A19: [datums]
A21: Aizpida VID amatpersona
A23: [atbildīgās personas paraksts un atšifrējums]
A24: [datums]

Sheet PVN6(I)
A1: PVN 6
A2: Pārskats par fiskālā pārstāvja veiktajiem darījumiem
A3: I. Saņemtās un eksportētās preces
A5: 1. | B5: Fiskālā pārstāvja PVN reģistrācijas numurs | G5: ='PVN deklaracija'!K6 -> 0
A6: 2. | B6: Periods par | D6: ='PVN deklaracija'!D3:E3 -> 0 | E6: gada | F6: ='PVN deklaracija'!G3 -> [mēnesis]
A8: 3. | B8: Taksācijas periodā saņemto preču vērtība kopā (3.1. + 3.2. + 3.3. + 3.4.) (eiro), tai skaitā: | J8: =SUM(J9:J12) -> 0
A9: 3.1. | B9: muitas noliktavās no iekšzemes
A10: 3.2. | B10: akcīzes preču noliktavās no iekšzemes
A11: 3.3. | B11: muitas noliktavās no ES dalībvalstīm
A12: 3.4. | B12: akcīzes preču noliktavās no ES dalībvalstīm
A13: 4. | B13: Taksācijas periodā eksportēto preču vērtība kopā (4.1. + 4.2 .+ 4.3. +4.4.) (eiro), tai skaitā preces, kas saņemtas: | J13: =SUM(J14:J17) -> 0
A14: 4.1. | B14: muitas noliktavās no iekšzemes
A15: 4.2. | B15: akcīzes preču noliktavās no iekšzemes
A16: 4.3. | B16: muitas noliktavās no ES dalībvalstīm
A17: 4.4. | B17: akcīzes preču noliktavās no ES dalībvalstīm
A18: 5. | B18: Taksācijas perioda beigās krājumos esošo preču vērtība kopā (5.1. + 5.2. + 5.3. + 5.4.) (eiro), tai skaitā preces, kas saņemtas: | J18: =SUM(J19:J22) -> 0
A19: 5.1. | B19: muitas noliktavās no iekšzemes
A20: 5.2. | B20: akcīzes preču noliktavās no iekšzemes
A21: 5.3. | B21: muitas noliktavās no ES dalībvalstīm
A22: 5.4. | B22: akcīzes preču noliktavās no ES dalībvalstīm
A23: 6. | B23: Taksācijas perioda beigās krājumos esošo īpašajā nodokļa režīmā importēto preču vērtība (eiro)
A25: ='PVN deklaracija'!A55 -> [datums]
G26: [atbildīgās personas paraksts un atšifrejums]

Sheet PVN6(II)
A1: II. Preču piegādātāju saraksts
A3: 1. | B3: Fiskālā pārstāvja PVN reģistrācijas numurs | G3: ='PVN deklaracija'!K6 -> 0
A4: 2. | B4: Periods par | D4: ='PVN deklaracija'!D3:E3 -> 0 | E4: gada | F4: ='PVN deklaracija'!G3 -> [mēnesis]
A6: Ieraksts | C6: Preču piegādātājs | I6: Rindas numurs* | J6: Preču vērtība (EUR) | K6: Preču vērtība valūtā | M6: No preču piegādātāja saņemtais rēķins
A7: Nr.p.k. | B7: datums | C7: nosaukums | F7: PVN reģistrācijas numurs (nereģistrētam nodokļa maksātājam, citas dalībvalsts nereģistrētam nodokļa maksātājam – nodokļu maksātāja kods) | K7: summa | L7: valūtas kods | M7: numurs | N7: datums (dd.mm.gg)
A8: 1 | B8: 2 | C8: 3 | F8: 4 | I8: 5 | J8: 6 | K8: 7 | L8: 8 | M8: 9 | N8: 10
A13: Kopā: | J13: =SUM(J9:J12) -> 0
A14: Piezīme. * Norādiet atbilstošo PVN 6 pārskata I daļas rindas numuru (3.1., 3.2., 3.3. vai 3.4.rinda), kurā ir norādīts attiecīgais darījums.
A16: ='PVN deklaracija'!A55 -> [datums]
J17: [atbilstošās personas paraksts un atšifrējums]

Sheet PVN6(III)
A1: III. Taksācijas periodā eksportēto preču piegādātāju saraksts
A3: 1. | B3: Fiskālā pārstāvja PVN reģistrācijas numurs | F3: ='PVN deklaracija'!K6 -> 0
A4: 2. | B4: Periods par | C4: ='PVN deklaracija'!D3 -> 0 | D4: gada | E4: ='PVN deklaracija'!G3 -> [mēnesis]
A6: Ieraksts | C6: Eksportēto preču vērtība (EUR) | D6: Izvešanas muitas deklarācija | F6: Izvešanas valsts kods | G6: Preču piegādātājs | I6: Rindas numurs* | J6: Preču vērtība (EUR) | K6: No preču piegādātāja saņemtais rēķins
A7: Nr.p.k. | B7: datums | D7: numurs | E7: datums (dd.mm.gg) | G7: nosaukums | H7: PVN reģistrācijas numurs (nereģistrētam nodokļa maksātājam, citas dalībvalsts nereģistrētam nodokļa maksātājam – nodokļu maksātāja kods) | K7: numurs | L7: datums (dd.mm.gg)
A8: 1 | B8: 2 | C8: 3 | D8: 4 | E8: 5 | F8: 6 | G8: 7 | H8: 8 | I8: 9 | J8: 10 | K8: 11 | L8: 12
A12: Kopā: | C12: =SUM(C9:C11) -> 0 | D12: Kopā: | J12: =SUM(J9:J11) -> 0
A13: Piezīme. * Norādiet atbilstošo PVN 6 pārskata I daļas rindas numuru (4.1.,4.2.,4.3. vai 4.4.rinda), kurā iekļauts attiecīgais darījums.
A15: ='PVN deklaracija'!A55 -> [datums]
I16: [atbilstošās personas paraksts un atšifrējums]

Sheet PVN7(I)
Q1: PVN 7
A2: Pārskats par nekustamā īpašuma izmantošanu
A3: I. Par nekustamā īpašuma reģistrāciju (A sadaļa) un nekustamā īpašuma izslēgšanu no reģistra (C sadaļa)
A5: 1. | B5: Reģistrētā nodokļa maks. PVN reģistrācijas numurs | H5: ='PVN deklaracija'!K6 -> 0
A6: 2. | B6: Periods par | E6: ='PVN deklaracija'!D3 -> 0 | G6: gada | H6: ='PVN deklaracija'!G3 -> [mēnesis]
B8: ='PVN deklaracija'!A5 -> 0 | C8: 1.ceturksnis | D8: ='PVN deklaracija'!D5 -> 0 | E8: 2.ceturksnis | F8: ='PVN deklaracija'!G5 -> 0 | G8: 3.ceturksnis | H8: ='PVN deklaracija'!J5 -> 0 | I8: 4.ceturksnis
A10: Kadastra numurs | C10: Kadastra apzīmējums | E10: Iegādes datums vai pieņemšanas ekspluatācijā datums | G10: A sadaļa | N10: C sadaļa
G11: kopējā nodokļa summa | H11: priekšnodoklis | J11: izmantošanas proporcija | L11: darījumi vai darbības ar nekustamo īpašumu* | N11: valsts budžetā maksājamais nodoklis vai no valsts budžeta atmaksājamais nodoklis | P11: informācija par izslēdzamo nekustamo īpašumu** | Q11: darījumi vai darbības ar nekustamo īpašumu***
A12: 1 | C12: 2 | E12: 3 | G12: 4 | H12: 5 | J12: 6 | L12: 7 | N12: 8 | P12: 9 | Q12: 10
A18: * norāda ar nekustamo īpašumu (vai nekustamā īpašuma daļu) veiktos darījumus vai darbības, lietojot šādus kodus: 1 – reģistrējamais nekustamais īpašums ir iegādāts; 2 – reģistrējamais nekustamais īpašums ir iegādāts lietots nekustamais īpašums, kura pārdošanai tika piemērots nodoklis; 3 – reģistrējamais nekustamais īpašums ir uzbūvēts; 4 – reģistrējamais nekustamais īpašums ir rekonstruēts, renovēts vai restaurēts. ** norāda informāciju, vai izslēgts tiek viss reģistrētais nekustamais īpašums vai arī daļa no reģistrētā nekustamā īpašuma, lietojot šādus kodus: A – izslēgts tiek viss sākotnēji reģistrētais nekustamais īpašums; B – izslēgta tiek daļa no sākotnēji reģistrētā nekustamā īpašuma, un par atlikušo reģistrētā nekustamā īpašuma daļu tiks turpināta korekcijas veikšana; C – izslēgta tiek atlikusī reģistrētā nekustamā īpašuma daļa.
A19: *** norāda darījumus vai darbības ar reģistrēto nekustamo īpašumu (vai daļu no reģistrētā nekustamā īpašuma), lietojot šādus kodus: 5 – reģistrētais nekustamais īpašums (vai daļa no reģistrētā nekustamā īpašuma) ir pārdots; 6 – reģistrētais nekustamais īpašums (vai daļa no reģistrētā nekustamā īpašuma) ir lietots nekustamais īpašums, kura pārdošanai ir piemērots nodoklis; 7 – reģistrētais nekustamais īpašums (vai daļa no reģistrētā nekustamā īpašuma) ir gājis bojā vai iznīcināts stihiskas nelaimes dēļ vai citādā piespiedu kārtā; 8 – reģistrētais nekustamais īpašums (vai daļa no reģistrētā nekustamā īpašuma) ir nojaukts; 9 – reģistrētais nekustamais īpašums (vai daļa no reģistrētā nekustamā īpašuma) ir ieguldīts komercsabiedrības kapitālā; 10 – reģistrētais nekustamais īpašums (vai daļa no reģistrētā nekustamā īpašuma) pēc reorganizācijas vai uzņēmuma pārejas ir nodots iegūstošajai sabiedrībai; 11 – reģistrētais nekustamais īpašums (vai daļa no reģistrētā nekustamā īpašuma) tiek izslēgts cita iemesla dēļ.
A21: ='PVN deklaracija'!A55 -> [datums]
L22: [atbildīgās personas paraksts un atšifrējums]

Sheet PVN7(II)
A1: II. Par nekustamā īpašuma izmantošanu taksācijas gadā (B sadaļa)
A3: 1. | B3: Reģistrēta nodokļa maks. PVN reģistrācijas numurs | H3: ='PVN deklaracija'!K6 -> 0
A4: 2. | B4: Periods par | E4: ='PVN deklaracija'!D3 -> 0 | G4: gadu
A7: Kadastra numurs | D7: Kadastra apzīmējums | G7: Iegādes datums vai pieņemšanas ekspluatācijā datums | I7: B sadaļa
I8: izmantošanas proporcija | K8: valsts budžetā maksājamais nodoklis vai no valsts budžeta atmaksājamais nodoklis | O8: informācija par korekciju*
A9: 1 | D9: 2 | G9: 3 | I9: 4 | K9: 5 | O9: 6
A16: * norāda, vai korekcija tiek veikta par visu sākotnēji reģistrēto nekustamo īpašumu vai arī korekcija tiek veikta par atlikušo reģistrētā īpašuma daļu pēc daļas no nekustamā īpašuma izslēgšanas no reģistra, lietojot šādus kodus: D – korekcija tiek veikta par visu reģistrēto nekustamo īpašumu; E – korekcija tiek veikta par atlikušo reģistrētā īpašuma daļu pēc daļas no reģistrētā nekustamā īpašuma izslēgšanas no reģistra.
A18: ='PVN deklaracija'!A55 -> [datums]
L19: [atbildīgās personas paraksts un atšifrējums]
